BEGIN:VCALENDAR
VERSION:2.0
PRODID:-//Tukios.com/
BEGIN:VEVENT
UID:9546c153-3b90-4143-b3a3-9782c08623f1@www.searcyfuneralhome.com
DTSTAMP:20260420T231046Z
DTSTART:20260424T173000Z
DTEND:20260424T190000Z
SUMMARY:Visitation
DESCRIPTION:
URL:https://www.searcyfuneralhome.com/obituaries/william-richter-iii
LOCATION: 1301 Neal Metcalf Road  Enterprise AL 36330
GEO:31.3354083;-85.8612324
END:VEVENT
END:VCALENDAR