BEGIN:VCALENDAR
VERSION:2.0
PRODID:-//Tukios.com/
BEGIN:VEVENT
UID:e1fb8e60-e58b-421e-a93c-baf3f69e2050@www.searcyfuneralhome.com
DTSTAMP:20260420T230543Z
DTSTART:20260424T200000Z
DTEND:20260424T203000Z
SUMMARY:Burial
DESCRIPTION:
URL:https://www.searcyfuneralhome.com/obituaries/william-richter-iii
LOCATION: 6121 Alabama 27  Enterprise AL 36330
GEO:31.2747997;-85.8812435
END:VEVENT
END:VCALENDAR