BEGIN:VCALENDAR
VERSION:2.0
PRODID:-//Tukios.com/
BEGIN:VEVENT
UID:15dbacee-fcb0-4892-8195-bd3056894fc9@www.searcyfuneralhome.com
DTSTAMP:20260420T230410Z
DTSTART:20260424T190000Z
DTEND:20260424T200000Z
SUMMARY:Funeral Service
DESCRIPTION:
URL:https://www.searcyfuneralhome.com/obituaries/william-richter-iii
LOCATION:Searcy Funeral Home and Crematory Chapel 1301 Neal Metcalf Road  
	Enterprise AL 36330
GEO:31.3354083;-85.8612324
END:VEVENT
END:VCALENDAR