BEGIN:VCALENDAR
VERSION:2.0
PRODID:-//Tukios.com/
BEGIN:VEVENT
UID:a3e50e86-d756-43fa-b01f-e2db79253008@www.searcyfuneralhome.com
DTSTAMP:20260421T022440Z
DTSTART:20260425T160000Z
DTEND:20260425T170000Z
SUMMARY:Graveside Service
DESCRIPTION:
URL:https://www.searcyfuneralhome.com/obituaries/thomas-kelly
LOCATION: 6121 Alabama 27  Enterprise AL 36330
GEO:31.2747997;-85.8812435
END:VEVENT
END:VCALENDAR