BEGIN:VCALENDAR
VERSION:2.0
PRODID:-//Tukios.com/
BEGIN:VEVENT
UID:e9a45a6e-dd3c-4219-863c-f3062c09fe49@www.searcyfuneralhome.com
DTSTAMP:20260423T214735Z
DTSTART:20260427T200000Z
DTEND:20260427T203000Z
SUMMARY:Burial
DESCRIPTION:
URL:https://www.searcyfuneralhome.com/obituaries/sue-sanders
LOCATION: 6121 Alabama 27  Enterprise AL 36330
GEO:31.2747997;-85.8812435
END:VEVENT
END:VCALENDAR