BEGIN:VCALENDAR
VERSION:2.0
PRODID:-//Tukios.com/
BEGIN:VEVENT
UID:f40c58ec-501b-49ec-97b1-4f110e31a3bc@www.searcyfuneralhome.com
DTSTAMP:20260423T215223Z
DTSTART:20260427T180000Z
DTEND:20260427T190000Z
SUMMARY:Visitation
DESCRIPTION:
URL:https://www.searcyfuneralhome.com/obituaries/sue-sanders
LOCATION:Searcy Funeral Home and Crematory Chapel 1301 Neal Metcalf Road  
	Enterprise AL 36330
GEO:31.3354083;-85.8612324
END:VEVENT
END:VCALENDAR