BEGIN:VCALENDAR
VERSION:2.0
PRODID:-//Tukios.com/
BEGIN:VEVENT
UID:02a27427-8871-4745-bb83-38c9e60e8764@www.searcyfuneralhome.com
DTSTAMP:20260422T002944Z
DTSTART:20260426T180000Z
DTEND:20260426T190000Z
SUMMARY:Visitation
DESCRIPTION:
URL:https://www.searcyfuneralhome.com/obituaries/sarah-macdonald
LOCATION:Searcy Funeral Home & Crematory Chapel 1301 Neal Metcalf Road  
	Enterprise AL 36330
GEO:31.3354083;-85.8612324
END:VEVENT
END:VCALENDAR