BEGIN:VCALENDAR
VERSION:2.0
PRODID:-//Tukios.com/
BEGIN:VEVENT
UID:8494df6b-665f-40bf-a19b-d26554bf1b10@www.searcyfuneralhome.com
DTSTAMP:20260422T002954Z
DTSTART:20260426T190000Z
DTEND:20260426T200000Z
SUMMARY:Memorial Service
DESCRIPTION:
URL:https://www.searcyfuneralhome.com/obituaries/sarah-macdonald
LOCATION:Searcy Funeral Home & Crematory Chapel 1301 Neal Metcalf Road  
	Enterprise AL 36330
GEO:31.3354083;-85.8612324
END:VEVENT
END:VCALENDAR